BEGIN:VCALENDAR
PRODID:-//kirchenweb.ch gmbh//veranstaltungsausgabe v2.0//DE
VERSION:2.0
METHOD:PUBLISH
BEGIN:VEVENT
DTSTART:20260512T070000Z
DTEND:20260512T090000Z
LOCATION:Kirchgemeindehaus Schlatt\, Pfarrhausstrasse 10\, 8252 Schlatt TG
TRANSP:OPAQUE
SEQUENCE:0
UID:36439-veranstaltung@kirchgemeinde.ch
DTSTAMP:20260331T123734Z
DESCRIPTION:Während Kleinkinder zusammen spielen können\, haben Eltern
  und Grosseltern die Möglichkeit\, sich auszutauschen und sich besser
  kennenzulernen. \n\nKontakt: Andi Schlegel\, 077 450 09 41\n\nWeitere
  Infos: https://www.kirchgemeinde.ch/veranstaltung/36439
SUMMARY:Spiel-Cafi
PRIORITY:5
X-MICROSOFT-CDO-IMPORTANCE:1
CLASS:PUBLIC
END:VEVENT
END:VCALENDAR
