BEGIN:VCALENDAR
PRODID:-//kirchenweb.ch gmbh//veranstaltungsausgabe v2.0//DE
VERSION:2.0
METHOD:PUBLISH
BEGIN:VEVENT
DTSTART:20260424T170000Z
DTEND:20260424T183000Z
LOCATION:Evangelisches Kirchgemeindehaus\, Pfarrhausstrasse 10\, 8252
  Schlatt TG
TRANSP:OPAQUE
SEQUENCE:0
UID:36383-veranstaltung@kirchgemeinde.ch
DTSTAMP:20260206T162104Z
DESCRIPTION:Das Israelgebet wird von Monique Tränkle geleitet. An
  verschiedenen Stationen kann man für die aktuelle Situation in Israel
  und im Nahen Osten beten.\n\nDas Israelgebet findet ca. 14-täglich am
  Freitagabend statt\, vorläufig in der Evang. Kirche Schlatt.\n\nKontakt:
  Pfrn. Sabine Aschmann\n\nWeitere Infos:
  https://www.kirchgemeinde.ch/veranstaltung/36383
SUMMARY:Israelgebet
PRIORITY:5
X-MICROSOFT-CDO-IMPORTANCE:1
CLASS:PUBLIC
END:VEVENT
END:VCALENDAR
