BEGIN:VCALENDAR
PRODID:-//kirchenweb.ch gmbh//veranstaltungsausgabe v2.0//DE
VERSION:2.0
METHOD:PUBLISH
BEGIN:VEVENT
DTSTART:20260605T153000Z
DTEND:20260605T163000Z
LOCATION:Evangelisches Kirchgemeindehaus und öffentlicher Platz in
  Schlatt\, Pfarrhausstrasse 10\, 8252 Schlatt TG
TRANSP:OPAQUE
SEQUENCE:0
UID:36320-veranstaltung@kirchgemeinde.ch
DTSTAMP:20260125T201754Z
DESCRIPTION:Nacht ohne Dach - der Name ist Programm: Jugendliche
  verbringen eine Nacht in einer selbst gebauten Hütte aus Karton und
  erleben so die Realität von Strassen- und Slumkindern hautnah. Sie
  werden sich anderer Lebenswelten bewusst und gewinnen Motivation\, sich
  für Menschen in ärmeren Ländern einzusetzen. Durch ein Sponsoring wird
  Geld für ein aktuelles Hilfsprogramm in Peru gesammelt. \nEin Projekt in
  Zusammenarbeit mit ena Schweiz.\n\nFür Schlatter Oberstufenschüler ist
  ein Besuch der 'Nacht ohne Dach' Teil des Religionsunterrichts. Wer
  mehrmals teilnimmt\, kann sich dafür Bausteine gutschreiben lassen.  \n
 \nKontakt: Andi Schlegel\, Sozialdiakon\, 077 450 09 41\n\nWeitere Infos:
  https://www.kirchgemeinde.ch/veranstaltung/36320
SUMMARY:Nacht ohne Dach
PRIORITY:5
X-MICROSOFT-CDO-IMPORTANCE:1
CLASS:PUBLIC
END:VEVENT
END:VCALENDAR
