BEGIN:VCALENDAR
PRODID:-//kirchenweb.ch gmbh//veranstaltungsausgabe v2.0//DE
VERSION:2.0
METHOD:PUBLISH
BEGIN:VEVENT
DTSTART:20261129T093000Z
DTEND:20261129T104500Z
LOCATION:Gemeindehaus-Saal\, Mettschlatterstrasse 2\, 8252 Schlatt TG
TRANSP:OPAQUE
SEQUENCE:0
UID:35888-veranstaltung@kirchgemeinde.ch
DTSTAMP:20251126T154644Z
DESCRIPTION:Mitwirkende: Konfirmanden\,Tanzgruppe Roundabout Youth\,
 \nPfrn. Sabine Aschmann\, Sozialdiakon Andi Schlegel;\nMusik: Gospelchor
  River Voices\, Leitung Kathrin Egli;\nKollekte: Gemeinschaft der
  Versöhnung-GDV;\nIm Anschluss gibt es einen feinen Gemeinde-Zmittag für
  alle.\n\nWer nach dem Zmittag noch etwas Schönes entdecken möchte\,
  findet am Stand des Handarbeits-Ateliers viele liebevoll gefertigte
  Produkte. Der gesamte Erlös geht an SELAM\, ein Hilfswerk in
  Äthiopien\, das Kindern und Jugendlichen Hoffnung schenkt.\n\nWir freuen
  uns auf dein Kommen und ein frohes Miteinander!\n\n\n\nKontakt:
  kg.schlatt@kirchgemeinde.ch\n\nWeitere Infos:
  https://www.kirchgemeinde.ch/veranstaltung/35888
SUMMARY:Familiengottesdienst zum 1. Advent im Gemeindehaus-Saal
PRIORITY:5
X-MICROSOFT-CDO-IMPORTANCE:1
CLASS:PUBLIC
END:VEVENT
END:VCALENDAR
