BEGIN:VCALENDAR
PRODID:-//kirchenweb.ch gmbh//veranstaltungsausgabe v2.0//DE
VERSION:2.0
METHOD:PUBLISH
BEGIN:VEVENT
DTSTART:20260927T083000Z
DTEND:20260927T094000Z
LOCATION:Ev. Kirche  oder Hof ...\, Frauenfelderstr. 100\, 8252 Schlatt
TRANSP:OPAQUE
SEQUENCE:0
UID:35857-veranstaltung@kirchgemeinde.ch
DTSTAMP:20251126T152952Z
DESCRIPTION:Pfrn. Sabine Aschmann; Kollekte: Quellenhofstiftung;\nmit dem
  Musikverein\, Leitung Martin Weiss;\nanschliessend Erntedank-Apéro\n
 \nKontakt:  \n\nWeitere Infos:
  https://www.kirchgemeinde.ch/veranstaltung/35857
SUMMARY:Familiengottesdienst zum Erntedank
PRIORITY:5
X-MICROSOFT-CDO-IMPORTANCE:1
CLASS:PUBLIC
END:VEVENT
END:VCALENDAR
