BEGIN:VCALENDAR
PRODID:-//kirchenweb.ch gmbh//veranstaltungsausgabe v2.0//DE
VERSION:2.0
METHOD:PUBLISH
BEGIN:VEVENT
DTSTART:20260503T074500Z
DTEND:20260503T090000Z
LOCATION:Ev. Kirche \, Frauenfelderstr. 100\, 8252 Schlatt
TRANSP:OPAQUE
SEQUENCE:0
UID:35843-veranstaltung@kirchgemeinde.ch
DTSTAMP:20251205T173728Z
DESCRIPTION:mit Andreas Schlegel\, Sozialdiakon; Kollekte: Netzwerk Bibel
  und Bekenntnis;\nOrgel: Peter Fischer; \nanschliessend Chilekafi\n
 \nKontakt:  \n\nWeitere Infos:
  https://www.kirchgemeinde.ch/veranstaltung/35843
SUMMARY:Gottesdienst
PRIORITY:5
X-MICROSOFT-CDO-IMPORTANCE:1
CLASS:PUBLIC
END:VEVENT
END:VCALENDAR
