BEGIN:VCALENDAR
PRODID:-//kirchenweb.ch gmbh//veranstaltungsausgabe v2.0//DE
VERSION:2.0
METHOD:PUBLISH
BEGIN:VEVENT
DTSTART:20261211T160000Z
DTEND:20261211T190000Z
LOCATION:Rosenburg -  \, Im Winkel 6\, 8252 Schlatt TG
TRANSP:OPAQUE
SEQUENCE:0
UID:35744-veranstaltung@kirchgemeinde.ch
DTSTAMP:20250930T133011Z
DESCRIPTION:Handarbeiten für einen guten Zweck\, mit schöner
  Gemeinschaft - heute mit einem feinen Nachtessen.\nLeitung Daniela Zuber.
 \n\nKontakt: Daniela Zuber\n\nWeitere Infos:
  https://www.kirchgemeinde.ch/veranstaltung/35744
SUMMARY:Handarbeits-Atelier mit Weihnachtsfeier
PRIORITY:5
X-MICROSOFT-CDO-IMPORTANCE:1
CLASS:PUBLIC
END:VEVENT
END:VCALENDAR
