BEGIN:VCALENDAR
PRODID:-//kirchenweb.ch gmbh//veranstaltungsausgabe v2.0//DE
VERSION:2.0
METHOD:PUBLISH
BEGIN:VEVENT
DTSTART:20260918T120000Z
DTEND:20260918T140000Z
LOCATION:Rosenburg -  \, Im Winkel 6\, 8252 Schlatt TG
TRANSP:OPAQUE
SEQUENCE:0
UID:35739-veranstaltung@kirchgemeinde.ch
DTSTAMP:20250930T131829Z
DESCRIPTION:Handarbeiten für einen guten Zweck\, mit schöner
  Gemeinschaft und etwas Zeit zum Kaffeetrinken.\nLeitung Daniela Zuber.\n
 \nKontakt: Daniela Zuber\n\nWeitere Infos:
  https://www.kirchgemeinde.ch/veranstaltung/35739
SUMMARY:Handarbeits-Atelier
PRIORITY:5
X-MICROSOFT-CDO-IMPORTANCE:1
CLASS:PUBLIC
END:VEVENT
END:VCALENDAR
