BEGIN:VCALENDAR
PRODID:-//kirchenweb.ch gmbh//veranstaltungsausgabe v2.0//DE
VERSION:2.0
METHOD:PUBLISH
BEGIN:VEVENT
DTSTART:20260613T120000Z
DTEND:20260613T150000Z
LOCATION:Evangelisches Kirchgemeindehaus\, Pfarrhausstrasse 10\, 8252
  Schlatt TG
TRANSP:OPAQUE
SEQUENCE:0
UID:35723-veranstaltung@kirchgemeinde.ch
DTSTAMP:20260204T142044Z
DESCRIPTION:das Ceviprogramm beginnt jeweils beim Kirchgemeindehaus -
  bitte Velo mitbringen.\n\nCevi Spezial\nKindergarten - 3. Klasse: 14.00 -
  17.00 Uhr\n4. - 8. Klasse: 17.30 - 20.30 Uhr\n\nKontakt: Liam
  Morgenthaler\, Cevi\n\nWeitere Infos:
  https://www.kirchgemeinde.ch/veranstaltung/35723
SUMMARY:Cevi (Spezial)
PRIORITY:5
X-MICROSOFT-CDO-IMPORTANCE:1
CLASS:PUBLIC
END:VEVENT
END:VCALENDAR
