BEGIN:VCALENDAR
PRODID:-//kirchenweb.ch gmbh//veranstaltungsausgabe v2.0//DE
VERSION:2.0
METHOD:PUBLISH
BEGIN:VEVENT
DTSTART:20260502T120000Z
DTEND:20260502T150000Z
LOCATION:Evangelisches Kirchgemeindehaus\, Pfarrhausstrasse 10\, 8252
  Schlatt TG
TRANSP:OPAQUE
SEQUENCE:0
UID:35721-veranstaltung@kirchgemeinde.ch
DTSTAMP:20260204T100109Z
DESCRIPTION:das Ceviprogramm beginnt jeweils beim Kirchgemeindehaus -
  bitte Velo mitbringen.\n\nKontakt: Liam Morgenthaler\, Cevi\n\nWeitere
  Infos: https://www.kirchgemeinde.ch/veranstaltung/35721
SUMMARY:Cevi
PRIORITY:5
X-MICROSOFT-CDO-IMPORTANCE:1
CLASS:PUBLIC
END:VEVENT
END:VCALENDAR
