BEGIN:VCALENDAR
PRODID:-//kirchenweb.ch gmbh//veranstaltungsausgabe v2.0//DE
VERSION:2.0
METHOD:PUBLISH
BEGIN:VEVENT
DTSTART:20260528T120000Z
DTEND:20260528T140000Z
LOCATION:Evangelisches Kirchgemeindehaus\, Pfarrhausstrasse 10\, 8252
  Schlatt TG
TRANSP:OPAQUE
SEQUENCE:0
UID:35696-veranstaltung@kirchgemeinde.ch
DTSTAMP:20250925T140510Z
DESCRIPTION:An einem Donnerstag im Monat kommen wir im Kirchgemeindehaus
  zusammen\, freuen uns an der Gemeinschaft und hören auf eine Geschichte
  oder ein Bibelwort\, das uns ermutigt. \n\nKontakt: Pfrn. Sabine Aschmann
 \n\nWeitere Infos: https://www.kirchgemeinde.ch/veranstaltung/35696
SUMMARY:Hauskreis für Senioren
PRIORITY:5
X-MICROSOFT-CDO-IMPORTANCE:1
CLASS:PUBLIC
END:VEVENT
END:VCALENDAR
