BEGIN:VCALENDAR
PRODID:-//kirchenweb.ch gmbh//veranstaltungsausgabe v2.0//DE
VERSION:2.0
METHOD:PUBLISH
BEGIN:VEVENT
DTSTART;VALUE=DATE:20260518
DTEND;VALUE=DATE:20260519
LOCATION:Emmental\, \,
TRANSP:OPAQUE
SEQUENCE:0
UID:35691-veranstaltung@kirchgemeinde.ch
DTSTAMP:20260129T101710Z
DESCRIPTION:Seit Jahren reisen wir mit dem Apfelcar der Firma Madörin in
  die Seniorenferien. Alternierend ins benachbarte Ausland oder in eine
  Region der Schweiz. Die Ferien werden gemeinsam mit dem Pfarramt
  Basadingen/Schlattingen/Willisdorf geplant und durchgeführt. \nBeim
  Fototreff wird das nächste Reiseziel jeweils vorgestellt. \n\nKontakt:
  Pfrn. Sabine Aschmann\n\nWeitere Infos:
  https://www.kirchgemeinde.ch/veranstaltung/35691
SUMMARY:Seniorenferien 18. - 23. Mai 2026
PRIORITY:5
X-MICROSOFT-CDO-IMPORTANCE:1
CLASS:PUBLIC
END:VEVENT
END:VCALENDAR
