BEGIN:VCALENDAR
PRODID:-//kirchenweb.ch gmbh//veranstaltungsausgabe v2.0//DE
VERSION:2.0
METHOD:PUBLISH
BEGIN:VEVENT
DTSTART:20260610T094500Z
DTEND:20260610T120000Z
LOCATION:Evangelisches Kirchgemeindehaus Schlatt\, Pfarrhausstrasse 10\,
  8252 Schlatt TG
TRANSP:OPAQUE
SEQUENCE:0
UID:35666-veranstaltung@kirchgemeinde.ch
DTSTAMP:20250925T135216Z
DESCRIPTION:Jeden zweiten Mittwoch sind die Kinder vom Kindergarten bis
  zur 4. Klasse zum Mittagessen  im Kirchgemeindehaus eingeladen. Eine
  spannende Geschichte aus der Bibel und viel Spass beim anschliessenden
  Basteln und Spielen runden den Kiki-Treff ab.  \n\nKontakt: Pfrn. Sabine
  Aschmann\n\nWeitere Infos:
  https://www.kirchgemeinde.ch/veranstaltung/35666
SUMMARY:Kiki Gschichtezmittag
PRIORITY:5
X-MICROSOFT-CDO-IMPORTANCE:1
CLASS:PUBLIC
END:VEVENT
END:VCALENDAR
