BEGIN:VCALENDAR
PRODID:-//kirchenweb.ch gmbh//veranstaltungsausgabe v2.0//DE
VERSION:2.0
METHOD:PUBLISH
BEGIN:VEVENT
DTSTART:20260507T073000Z
DTEND:20260507T083000Z
LOCATION:Evangelisches Kirchgemeindehaus\, Pfarrhausstrasse 10\, 8252
  Schlatt TG
TRANSP:OPAQUE
SEQUENCE:0
UID:35613-veranstaltung@kirchgemeinde.ch
DTSTAMP:20250925T094939Z
DESCRIPTION:Das Gebet für unser Dorf und für weitere Anliegen ist uns
  wichtig. \n\nKontakt: Pfrn. Sabine Aschmann\n\nWeitere Infos:
  https://www.kirchgemeinde.ch/veranstaltung/35613
SUMMARY:Gemeindegebet
PRIORITY:5
X-MICROSOFT-CDO-IMPORTANCE:1
CLASS:PUBLIC
END:VEVENT
END:VCALENDAR
