BEGIN:VCALENDAR
PRODID:-//kirchenweb.ch gmbh//veranstaltungsausgabe v2.0//DE
VERSION:2.0
METHOD:PUBLISH
BEGIN:VEVENT
DTSTART:20260508T173000Z
DTEND:20260508T183000Z
LOCATION:Evangelisches Kirchgemeindehaus\, Pfarrhausstrasse 10\, 8252
  Schlatt TG
TRANSP:OPAQUE
SEQUENCE:0
UID:35578-veranstaltung@kirchgemeinde.ch
DTSTAMP:20250924T132614Z
DESCRIPTION:Miteinander wollen wir Lobpreis-Lieder singen\, zur Ruhe
  kommen und eine kurze\, knackige Botschaft hören. Du bist herzlich
  eingeladen\, mitzusingen\, anzubeten und zu verweilen.\nAnschliessend
  bleibt Zeit für Kaffee\, Kuchen und Gespräche.\n\nKontakt: Esther
  Brütsch\, Tel. 079 256 40 22\n\nWeitere Infos:
  https://www.kirchgemeinde.ch/veranstaltung/35578
SUMMARY:Sing mit
PRIORITY:5
X-MICROSOFT-CDO-IMPORTANCE:1
CLASS:PUBLIC
END:VEVENT
END:VCALENDAR
