BEGIN:VCALENDAR
PRODID:-//kirchenweb.ch gmbh//veranstaltungsausgabe v2.0//DE
VERSION:2.0
METHOD:PUBLISH
BEGIN:VEVENT
DTSTART:20260422T150000Z
DTEND:20260422T190000Z
LOCATION:Evangelisches Kirchgemeindehaus\, Pfarrhausstrasse 10\, 8252
  Schlatt TG
TRANSP:OPAQUE
SEQUENCE:0
UID:35259-veranstaltung@kirchgemeinde.ch
DTSTAMP:20250610T160037Z
DESCRIPTION:Der Konfunti gibt den Jugendlichen Gelegenheit\, sich mit dem
  christlichen Glauben auseinanderzusetzen und mehr von Gott zu erleben.   
 \n\nKontakt: Pfrn. Sabine Aschmann\n\nWeitere Infos:
  https://www.kirchgemeinde.ch/veranstaltung/35259
SUMMARY:Konfirmandenunterricht
PRIORITY:5
X-MICROSOFT-CDO-IMPORTANCE:1
CLASS:PUBLIC
END:VEVENT
END:VCALENDAR
