BEGIN:VCALENDAR
PRODID:-//kirchenweb.ch gmbh//veranstaltungsausgabe v2.0//DE
VERSION:2.0
METHOD:PUBLISH
BEGIN:VEVENT
DTSTART:20260421T163000Z
DTEND:20260421T173000Z
LOCATION:Evangelisches Kirchgemeindehaus\, Pfarrhausstrasse 10\, 8252
  Schlatt TG
TRANSP:OPAQUE
SEQUENCE:0
UID:35247-veranstaltung@kirchgemeinde.ch
DTSTAMP:20250610T084819Z
DESCRIPTION:Kreatives Vorbereiten des nächsten Jugendgottesdienstes in
  Gruppen. \n\nKontakt: Andi Schlegel\, 077 450 09 41\n\nWeitere Infos:
  https://www.kirchgemeinde.ch/veranstaltung/35247
SUMMARY:Vorbereitung Youth Church
PRIORITY:5
X-MICROSOFT-CDO-IMPORTANCE:1
CLASS:PUBLIC
END:VEVENT
END:VCALENDAR
